BEGIN:VCALENDAR
VERSION:2.0
PRODID:-//JCAN - ECPv6.15.18//NONSGML v1.0//EN
CALSCALE:GREGORIAN
METHOD:PUBLISH
X-WR-CALNAME:JCAN
X-ORIGINAL-URL:https://jewishclimate.org
X-WR-CALDESC:Events for JCAN
REFRESH-INTERVAL;VALUE=DURATION:PT1H
X-Robots-Tag:noindex
X-PUBLISHED-TTL:PT1H
BEGIN:VTIMEZONE
TZID:America/New_York
BEGIN:DAYLIGHT
TZOFFSETFROM:-0500
TZOFFSETTO:-0400
TZNAME:EDT
DTSTART:20250309T070000
END:DAYLIGHT
BEGIN:STANDARD
TZOFFSETFROM:-0400
TZOFFSETTO:-0500
TZNAME:EST
DTSTART:20251102T060000
END:STANDARD
BEGIN:DAYLIGHT
TZOFFSETFROM:-0500
TZOFFSETTO:-0400
TZNAME:EDT
DTSTART:20260308T070000
END:DAYLIGHT
BEGIN:STANDARD
TZOFFSETFROM:-0400
TZOFFSETTO:-0500
TZNAME:EST
DTSTART:20261101T060000
END:STANDARD
BEGIN:DAYLIGHT
TZOFFSETFROM:-0500
TZOFFSETTO:-0400
TZNAME:EDT
DTSTART:20270314T070000
END:DAYLIGHT
BEGIN:STANDARD
TZOFFSETFROM:-0400
TZOFFSETTO:-0500
TZNAME:EST
DTSTART:20271107T060000
END:STANDARD
END:VTIMEZONE
BEGIN:VEVENT
DTSTART;TZID=America/New_York:20260419T133000
DTEND;TZID=America/New_York:20260419T153000
DTSTAMP:20260421T044850
CREATED:20260416T132634Z
LAST-MODIFIED:20260416T132634Z
UID:10000062-1776605400-1776612600@jewishclimate.org
SUMMARY:One Sun\, One Earth\, One People: A Sacred Celebration
DESCRIPTION:On the cusp of a revolution’s 250th\, JOIN US for this SACRED CELEBRATION of ONE SUN\, ONE EARTH\, ONE PEOPLE as the Boston Interfaith Climate Allies welcome climate activist Bill McKibben who will invite us into a non-violent SOLAR REVOLUTION. \nSUNDAY\, APRIL 19\, 2026 1:30pm \n  \n1:30-1:45pm Gathering at The Embrace Memorial in Boston Common \n\n1:45-2:00pm Joyful Processional led by BABAM Activist Brass Band and BVOCAL Activist Choir \n\n2:00-3:00pm Sacred Celebration at the Cathedral Church of Saint Paul with guest speaker Bill McKibben and other interfaith voices \n\n3:00-3:30pm Prayerful Activism and Sending on Steps of Cathedral with Closing from Local Indigenous Voices \n  \nPLEASE JOIN US!
URL:https://jewishclimate.org/event/one-sun-one-earth-one-people-a-sacred-celebration/
LOCATION:Boston Common\, Embrace Memorial\, 139 Tremont Street\, Boston\, 02108\, United States
ATTACH;FMTTYPE=image/jpeg:https://jewishclimate.org/wp-content/uploads/sites/21/2026/04/one-sun-one-earth-one-people_orig.jpg
END:VEVENT
END:VCALENDAR